BEGIN:VCALENDAR
VERSION:2.0
PRODID:-//Lively Technical College - ECPv6.15.20//NONSGML v1.0//EN
CALSCALE:GREGORIAN
METHOD:PUBLISH
X-ORIGINAL-URL:https://www.livelytech.com
X-WR-CALDESC:Events for Lively Technical College
REFRESH-INTERVAL;VALUE=DURATION:PT1H
X-Robots-Tag:noindex
X-PUBLISHED-TTL:PT1H
BEGIN:VTIMEZONE
TZID:America/New_York
BEGIN:DAYLIGHT
TZOFFSETFROM:-0500
TZOFFSETTO:-0400
TZNAME:EDT
DTSTART:20250309T070000
END:DAYLIGHT
BEGIN:STANDARD
TZOFFSETFROM:-0400
TZOFFSETTO:-0500
TZNAME:EST
DTSTART:20251102T060000
END:STANDARD
BEGIN:DAYLIGHT
TZOFFSETFROM:-0500
TZOFFSETTO:-0400
TZNAME:EDT
DTSTART:20260308T070000
END:DAYLIGHT
BEGIN:STANDARD
TZOFFSETFROM:-0400
TZOFFSETTO:-0500
TZNAME:EST
DTSTART:20261101T060000
END:STANDARD
BEGIN:DAYLIGHT
TZOFFSETFROM:-0500
TZOFFSETTO:-0400
TZNAME:EDT
DTSTART:20270314T070000
END:DAYLIGHT
BEGIN:STANDARD
TZOFFSETFROM:-0400
TZOFFSETTO:-0500
TZNAME:EST
DTSTART:20271107T060000
END:STANDARD
END:VTIMEZONE
BEGIN:VEVENT
DTSTART;VALUE=DATE:20260429
DTEND;VALUE=DATE:20260430
DTSTAMP:20260423T050207
CREATED:20260305T190816Z
LAST-MODIFIED:20260305T190816Z
UID:7952-1777420800-1777507199@www.livelytech.com
SUMMARY:Spring Hair Show
DESCRIPTION:
URL:https://www.livelytech.com/event/spring-hair-show-2/
LOCATION:Building 3\, LTC Student Union\, 500 N Appleyard Drive\, Tallahassee\, FL\, 32304\, United States
END:VEVENT
BEGIN:VEVENT
DTSTART;VALUE=DATE:20260430
DTEND;VALUE=DATE:20260501
DTSTAMP:20260423T050207
CREATED:20260305T191035Z
LAST-MODIFIED:20260305T191035Z
UID:7955-1777507200-1777593599@www.livelytech.com
SUMMARY:College Career and Showcase
DESCRIPTION:Lively Technical College’s College and Career Showcase is our biggest school-wide event of the year\, giving students and families the chance to meet instructors and explore programs offered at Lively. This event helps visitors learn about career pathways\, training options\, and how to register for the school.
URL:https://www.livelytech.com/event/college-career-and-showcase/
LOCATION:Lively Technical College Campus\, 500 Appleyard Dr\, Tallahassee\, FL\, 32304\, United States
END:VEVENT
BEGIN:VEVENT
DTSTART;VALUE=DATE:20260430
DTEND;VALUE=DATE:20260501
DTSTAMP:20260423T050207
CREATED:20260305T191107Z
LAST-MODIFIED:20260305T191325Z
UID:7956-1777507200-1777593599@www.livelytech.com
SUMMARY:Scholarship Luncheon
DESCRIPTION:Recognizing students who were awarded various scholarships from Lively Technical College
URL:https://www.livelytech.com/event/scholarship-luncheon/
LOCATION:Building 3\, LTC Student Union\, 500 N Appleyard Drive\, Tallahassee\, FL\, 32304\, United States
END:VEVENT
END:VCALENDAR