BEGIN:VCALENDAR
VERSION:2.0
PRODID:-//Lively Technical College - ECPv6.15.20//NONSGML v1.0//EN
CALSCALE:GREGORIAN
METHOD:PUBLISH
X-ORIGINAL-URL:https://www.livelytech.com
X-WR-CALDESC:Events for Lively Technical College
REFRESH-INTERVAL;VALUE=DURATION:PT1H
X-Robots-Tag:noindex
X-PUBLISHED-TTL:PT1H
BEGIN:VTIMEZONE
TZID:America/New_York
BEGIN:DAYLIGHT
TZOFFSETFROM:-0500
TZOFFSETTO:-0400
TZNAME:EDT
DTSTART:20250309T070000
END:DAYLIGHT
BEGIN:STANDARD
TZOFFSETFROM:-0400
TZOFFSETTO:-0500
TZNAME:EST
DTSTART:20251102T060000
END:STANDARD
BEGIN:DAYLIGHT
TZOFFSETFROM:-0500
TZOFFSETTO:-0400
TZNAME:EDT
DTSTART:20260308T070000
END:DAYLIGHT
BEGIN:STANDARD
TZOFFSETFROM:-0400
TZOFFSETTO:-0500
TZNAME:EST
DTSTART:20261101T060000
END:STANDARD
BEGIN:DAYLIGHT
TZOFFSETFROM:-0500
TZOFFSETTO:-0400
TZNAME:EDT
DTSTART:20270314T070000
END:DAYLIGHT
BEGIN:STANDARD
TZOFFSETFROM:-0400
TZOFFSETTO:-0500
TZNAME:EST
DTSTART:20271107T060000
END:STANDARD
END:VTIMEZONE
BEGIN:VEVENT
DTSTART;VALUE=DATE:20260805
DTEND;VALUE=DATE:20260806
DTSTAMP:20260423T075927
CREATED:20260414T202801Z
LAST-MODIFIED:20260422T143340Z
UID:7981-1785888000-1785974399@www.livelytech.com
SUMMARY:First Day of School - Aviation
DESCRIPTION:All students must be scheduled by 8/4 (no late registration)
URL:https://www.livelytech.com/event/first-day-of-school-for-aviation/
END:VEVENT
BEGIN:VEVENT
DTSTART;VALUE=DATE:20260812
DTEND;VALUE=DATE:20260813
DTSTAMP:20260423T075927
CREATED:20260414T202832Z
LAST-MODIFIED:20260422T143524Z
UID:7982-1786492800-1786579199@www.livelytech.com
SUMMARY:First Day of School
DESCRIPTION:For all remaining programs.\nAll Health Ed (except LPN) – PCT\, Massage\, MA\, Central Sterile\, CNA\, Phlebotomy\, RN – must be scheduled by 8/11 (no late registration)\nNails & Facials – last day to be scheduled is 8/14\nAll other programs – the last day to be scheduled is 8/19
URL:https://www.livelytech.com/event/first-day-of-school/
END:VEVENT
END:VCALENDAR