BEGIN:VCALENDAR
VERSION:2.0
PRODID:-//Lively Technical College - ECPv6.15.20//NONSGML v1.0//EN
CALSCALE:GREGORIAN
METHOD:PUBLISH
X-WR-CALNAME:Lively Technical College
X-ORIGINAL-URL:https://www.livelytech.com
X-WR-CALDESC:Events for Lively Technical College
REFRESH-INTERVAL;VALUE=DURATION:PT1H
X-Robots-Tag:noindex
X-PUBLISHED-TTL:PT1H
BEGIN:VTIMEZONE
TZID:America/New_York
BEGIN:DAYLIGHT
TZOFFSETFROM:-0500
TZOFFSETTO:-0400
TZNAME:EDT
DTSTART:20250309T070000
END:DAYLIGHT
BEGIN:STANDARD
TZOFFSETFROM:-0400
TZOFFSETTO:-0500
TZNAME:EST
DTSTART:20251102T060000
END:STANDARD
BEGIN:DAYLIGHT
TZOFFSETFROM:-0500
TZOFFSETTO:-0400
TZNAME:EDT
DTSTART:20260308T070000
END:DAYLIGHT
BEGIN:STANDARD
TZOFFSETFROM:-0400
TZOFFSETTO:-0500
TZNAME:EST
DTSTART:20261101T060000
END:STANDARD
BEGIN:DAYLIGHT
TZOFFSETFROM:-0500
TZOFFSETTO:-0400
TZNAME:EDT
DTSTART:20270314T070000
END:DAYLIGHT
BEGIN:STANDARD
TZOFFSETFROM:-0400
TZOFFSETTO:-0500
TZNAME:EST
DTSTART:20271107T060000
END:STANDARD
END:VTIMEZONE
BEGIN:VEVENT
DTSTART;VALUE=DATE:20260422
DTEND;VALUE=DATE:20260423
DTSTAMP:20260419T104819
CREATED:20260305T190959Z
LAST-MODIFIED:20260305T190959Z
UID:7954-1776816000-1776902399@www.livelytech.com
SUMMARY:Spring Career Fair
DESCRIPTION:Lively Technical College’s Career Fair connects students with local employers and career opportunities. It’s a chance to explore jobs\, internships\, and training programs that can jumpstart their future.
URL:https://www.livelytech.com/event/spring-career-fair/
LOCATION:Building 3\, LTC Student Union\, 500 N Appleyard Drive\, Tallahassee\, FL\, 32304\, United States
END:VEVENT
BEGIN:VEVENT
DTSTART;VALUE=DATE:20260429
DTEND;VALUE=DATE:20260430
DTSTAMP:20260419T104819
CREATED:20260305T190816Z
LAST-MODIFIED:20260305T190816Z
UID:7952-1777420800-1777507199@www.livelytech.com
SUMMARY:Spring Hair Show
DESCRIPTION:
URL:https://www.livelytech.com/event/spring-hair-show-2/
LOCATION:Building 3\, LTC Student Union\, 500 N Appleyard Drive\, Tallahassee\, FL\, 32304\, United States
END:VEVENT
BEGIN:VEVENT
DTSTART;VALUE=DATE:20260430
DTEND;VALUE=DATE:20260501
DTSTAMP:20260419T104819
CREATED:20260305T191035Z
LAST-MODIFIED:20260305T191035Z
UID:7955-1777507200-1777593599@www.livelytech.com
SUMMARY:College Career and Showcase
DESCRIPTION:Lively Technical College’s College and Career Showcase is our biggest school-wide event of the year\, giving students and families the chance to meet instructors and explore programs offered at Lively. This event helps visitors learn about career pathways\, training options\, and how to register for the school.
URL:https://www.livelytech.com/event/college-career-and-showcase/
LOCATION:Lively Techinical College Campus\, 500 Appleyard Dr\, Tallahassee\, FL\, 32304\, United States
END:VEVENT
BEGIN:VEVENT
DTSTART;VALUE=DATE:20260430
DTEND;VALUE=DATE:20260501
DTSTAMP:20260419T104819
CREATED:20260305T191107Z
LAST-MODIFIED:20260305T191325Z
UID:7956-1777507200-1777593599@www.livelytech.com
SUMMARY:Scholarship Luncheon
DESCRIPTION:Recognizing students who were awarded various scholarships from Lively Technical College
URL:https://www.livelytech.com/event/scholarship-luncheon/
LOCATION:Building 3\, LTC Student Union\, 500 N Appleyard Drive\, Tallahassee\, FL\, 32304\, United States
END:VEVENT
BEGIN:VEVENT
DTSTART;VALUE=DATE:20260504
DTEND;VALUE=DATE:20260505
DTSTAMP:20260419T104819
CREATED:20260414T202625Z
LAST-MODIFIED:20260414T202625Z
UID:7977-1777852800-1777939199@www.livelytech.com
SUMMARY:Open Enrollment for RETURNING STUDENTS
DESCRIPTION:
URL:https://www.livelytech.com/event/open-enrollment-for-returning-students/
END:VEVENT
BEGIN:VEVENT
DTSTART;VALUE=DATE:20260504
DTEND;VALUE=DATE:20260509
DTSTAMP:20260419T104819
CREATED:20260415T141823Z
LAST-MODIFIED:20260415T141823Z
UID:7984-1777852800-1778284799@www.livelytech.com
SUMMARY:Staff Appreciation Week
DESCRIPTION:
URL:https://www.livelytech.com/event/staff-appreciation-week/
END:VEVENT
BEGIN:VEVENT
DTSTART;VALUE=DATE:20260507
DTEND;VALUE=DATE:20260508
DTSTAMP:20260419T104819
CREATED:20260305T191140Z
LAST-MODIFIED:20260305T191140Z
UID:7957-1778112000-1778198399@www.livelytech.com
SUMMARY:Signing Day
DESCRIPTION:Lively Technical College Signing Day celebrates students who have secured jobs in their field before graduation by officially signing employment offers.
URL:https://www.livelytech.com/event/signing-day/
LOCATION:Chiles High School Auditorium\, 7200 Lawton Chiles Ln\, Tallahassee\, FL\, 32312\, United States
END:VEVENT
BEGIN:VEVENT
DTSTART;VALUE=DATE:20260513
DTEND;VALUE=DATE:20260514
DTSTAMP:20260419T104819
CREATED:20260305T191211Z
LAST-MODIFIED:20260305T191211Z
UID:7958-1778630400-1778716799@www.livelytech.com
SUMMARY:Spring Graduation
DESCRIPTION:Lively Technical College’s commencement ceremony to celebrate the achievements of our students as they complete their programs. It’s a special event to honor their hard work\, dedication\, and readiness to start their careers.
URL:https://www.livelytech.com/event/spring-graduation-2/
LOCATION:Chiles High School Auditorium\, 7200 Lawton Chiles Ln\, Tallahassee\, FL\, 32312\, United States
END:VEVENT
BEGIN:VEVENT
DTSTART;VALUE=DATE:20260515
DTEND;VALUE=DATE:20260516
DTSTAMP:20260419T104819
CREATED:20260414T202704Z
LAST-MODIFIED:20260414T202704Z
UID:7978-1778803200-1778889599@www.livelytech.com
SUMMARY:Scholarship Close for Fall Applications
DESCRIPTION:
URL:https://www.livelytech.com/event/scholarship-close-for-fall-applications/
END:VEVENT
BEGIN:VEVENT
DTSTART;VALUE=DATE:20260518
DTEND;VALUE=DATE:20260519
DTSTAMP:20260419T104819
CREATED:20260414T202723Z
LAST-MODIFIED:20260414T202723Z
UID:7979-1779062400-1779148799@www.livelytech.com
SUMMARY:Registration Opens for NEW STUDENTS
DESCRIPTION:
URL:https://www.livelytech.com/event/registration-opens-for-new-students/
END:VEVENT
BEGIN:VEVENT
DTSTART;VALUE=DATE:20260522
DTEND;VALUE=DATE:20260523
DTSTAMP:20260419T104819
CREATED:20260414T202740Z
LAST-MODIFIED:20260414T202740Z
UID:7980-1779408000-1779494399@www.livelytech.com
SUMMARY:Last Day of School for students
DESCRIPTION:
URL:https://www.livelytech.com/event/last-day-of-school-for-students/
END:VEVENT
BEGIN:VEVENT
DTSTART;VALUE=DATE:20260526
DTEND;VALUE=DATE:20260528
DTSTAMP:20260419T104819
CREATED:20260415T141951Z
LAST-MODIFIED:20260415T141951Z
UID:7985-1779753600-1779926399@www.livelytech.com
SUMMARY:Instructor In Service Days
DESCRIPTION:
URL:https://www.livelytech.com/event/instructor-in-service-days/
END:VEVENT
BEGIN:VEVENT
DTSTART;VALUE=DATE:20260805
DTEND;VALUE=DATE:20260806
DTSTAMP:20260419T104819
CREATED:20260414T202801Z
LAST-MODIFIED:20260414T202801Z
UID:7981-1785888000-1785974399@www.livelytech.com
SUMMARY:First Day of School for Aviation
DESCRIPTION:
URL:https://www.livelytech.com/event/first-day-of-school-for-aviation/
END:VEVENT
BEGIN:VEVENT
DTSTART;VALUE=DATE:20260812
DTEND;VALUE=DATE:20260813
DTSTAMP:20260419T104819
CREATED:20260414T202832Z
LAST-MODIFIED:20260414T202832Z
UID:7982-1786492800-1786579199@www.livelytech.com
SUMMARY:First Day of School
DESCRIPTION:For all programs except Aviation
URL:https://www.livelytech.com/event/first-day-of-school/
END:VEVENT
BEGIN:VEVENT
DTSTART;VALUE=DATE:20260918
DTEND;VALUE=DATE:20260919
DTSTAMP:20260419T104819
CREATED:20260414T202853Z
LAST-MODIFIED:20260414T202853Z
UID:7983-1789689600-1789775999@www.livelytech.com
SUMMARY:Titans Rise Gala
DESCRIPTION:
URL:https://www.livelytech.com/event/titans-rise-gala/
END:VEVENT
END:VCALENDAR