BEGIN:VCALENDAR
VERSION:2.0
PRODID:-//Lively Technical College - ECPv6.15.20//NONSGML v1.0//EN
CALSCALE:GREGORIAN
METHOD:PUBLISH
X-WR-CALNAME:Lively Technical College
X-ORIGINAL-URL:https://www.livelytech.com
X-WR-CALDESC:Events for Lively Technical College
REFRESH-INTERVAL;VALUE=DURATION:PT1H
X-Robots-Tag:noindex
X-PUBLISHED-TTL:PT1H
BEGIN:VTIMEZONE
TZID:America/New_York
BEGIN:DAYLIGHT
TZOFFSETFROM:-0500
TZOFFSETTO:-0400
TZNAME:EDT
DTSTART:20220313T070000
END:DAYLIGHT
BEGIN:STANDARD
TZOFFSETFROM:-0400
TZOFFSETTO:-0500
TZNAME:EST
DTSTART:20221106T060000
END:STANDARD
BEGIN:DAYLIGHT
TZOFFSETFROM:-0500
TZOFFSETTO:-0400
TZNAME:EDT
DTSTART:20230312T070000
END:DAYLIGHT
BEGIN:STANDARD
TZOFFSETFROM:-0400
TZOFFSETTO:-0500
TZNAME:EST
DTSTART:20231105T060000
END:STANDARD
BEGIN:DAYLIGHT
TZOFFSETFROM:-0500
TZOFFSETTO:-0400
TZNAME:EDT
DTSTART:20240310T070000
END:DAYLIGHT
BEGIN:STANDARD
TZOFFSETFROM:-0400
TZOFFSETTO:-0500
TZNAME:EST
DTSTART:20241103T060000
END:STANDARD
BEGIN:DAYLIGHT
TZOFFSETFROM:-0500
TZOFFSETTO:-0400
TZNAME:EDT
DTSTART:20250309T070000
END:DAYLIGHT
BEGIN:STANDARD
TZOFFSETFROM:-0400
TZOFFSETTO:-0500
TZNAME:EST
DTSTART:20251102T060000
END:STANDARD
END:VTIMEZONE
BEGIN:VEVENT
DTSTART;TZID=America/New_York:20240404T183000
DTEND;TZID=America/New_York:20240404T203000
DTSTAMP:20260421T164451
CREATED:20240327T204636Z
LAST-MODIFIED:20240402T134538Z
UID:6366-1712255400-1712262600@www.livelytech.com
SUMMARY:Beauty and Fashion Show
DESCRIPTION:The Lively Cosmetology Department would like to cordially invite you to the Living the Dream Beauty & Fashion Show. \nJoin us as we recognize the accomplishments of the 2024 – 2025 Cosmetology class. \nThursday\, April 4\, 2024 at 6:30 pm\nLively Technical College\nBuilding 3 Student Union \nView the Flyer
URL:https://www.livelytech.com/event/beauty-and-fashion-show/
LOCATION:Building 3\, LTC Student Union\, 500 N Appleyard Drive\, Tallahassee\, FL\, 32304\, United States
ATTACH;FMTTYPE=image/jpeg:https://www.livelytech.com/wp-content/uploads/2024/03/hair-show-spring-2024-event.jpg
END:VEVENT
BEGIN:VEVENT
DTSTART;VALUE=DATE:20240401
DTEND;VALUE=DATE:20240402
DTSTAMP:20260421T164451
CREATED:20240327T181910Z
LAST-MODIFIED:20240327T183115Z
UID:6339-1711929600-1712015999@www.livelytech.com
SUMMARY:Spring Holiday - Campus Closed
DESCRIPTION:Campus will be closed Monday\, April 1st for a Spring Holiday. \nClasses will resume as scheduled Tuesday\, April 2nd.
URL:https://www.livelytech.com/event/spring-holiday-campus-closed-2/
LOCATION:FL
ATTACH;FMTTYPE=image/jpeg:https://www.livelytech.com/wp-content/uploads/2024/03/Spring-Holiday-4-1-24.jpg
END:VEVENT
BEGIN:VEVENT
DTSTART;VALUE=DATE:20240311
DTEND;VALUE=DATE:20240316
DTSTAMP:20260421T164451
CREATED:20240228T190054Z
LAST-MODIFIED:20240228T213640Z
UID:6305-1710115200-1710547199@www.livelytech.com
SUMMARY:Spring Break
DESCRIPTION:
URL:https://www.livelytech.com/event/spring-break-2024/
LOCATION:FL
ATTACH;FMTTYPE=image/jpeg:https://www.livelytech.com/wp-content/uploads/2024/02/LTC_SpringBreak-thumbnail.jpg
END:VEVENT
BEGIN:VEVENT
DTSTART;TZID=America/New_York:20240302T080000
DTEND;TZID=America/New_York:20240302T130000
DTSTAMP:20260421T164451
CREATED:20240220T160904Z
LAST-MODIFIED:20240220T175255Z
UID:6263-1709366400-1709384400@www.livelytech.com
SUMMARY:6th Annual Show and Shine Car Show
DESCRIPTION:🏁Get ready for a day of sleek rides and shining chrome at the 6th Annual Show and Shine Car Show! 🌟 Join us on Saturday\, March 2nd\, from 9:00 a.m. to 1:00 p.m. for a showcase of some of the coolest cars around. Whether you’ve got a classic beauty or a custom creation\, this is your chance to show off your wheels! \nBring your pride and joy to our event\, shine it up\, and let it steal the spotlight. From vintage cruisers to modern marvels\, all makes and models are welcome to strut their stuff. Plus\, it’s not just about the cars—enjoy refreshments and fun for the whole family! \n🏆 Anyone can register their vehicle for a chance to win fantastic door prizes\, and the first-place winner will receive a coveted plaque! Hosted by our Automotive Department\, this event is your opportunity to connect with fellow car enthusiasts and celebrate the beauty of automotive craftsmanship. Contact Kenny Adams at adamsk@leonschools.net with any questions and to register your ride. Don’t miss out on the excitement of the 6th Annual Show and Shine Car Show at Lively Technical College. Mark your calendars and rev up your engines for a day of automotive excellence! \nDownload the Flyer
URL:https://www.livelytech.com/event/6th-annual-show-and-shine-car-show/
LOCATION:Lively Techinical College Campus\, 500 Appleyard Dr\, Tallahassee\, FL\, 32304\, United States
ATTACH;FMTTYPE=image/jpeg:https://www.livelytech.com/wp-content/uploads/2024/02/LTC-Car-Show-2024-Event.jpg
ORGANIZER;CN="Kenny Adams":MAILTO:adamsk@leonschools.net
END:VEVENT
BEGIN:VEVENT
DTSTART;VALUE=DATE:20240219
DTEND;VALUE=DATE:20240220
DTSTAMP:20260421T164451
CREATED:20240214T211617Z
LAST-MODIFIED:20240214T211617Z
UID:6246-1708300800-1708387199@www.livelytech.com
SUMMARY:Presidents Day Holiday
DESCRIPTION:Lively Tech will be closed Monday February 19th\, for the Presidents Day Holiday.
URL:https://www.livelytech.com/event/presidents-day-holiday-3/
LOCATION:FL
ATTACH;FMTTYPE=image/png:https://www.livelytech.com/wp-content/uploads/2024/02/LTC-presidentsday2024-event.png
END:VEVENT
BEGIN:VEVENT
DTSTART;TZID=America/New_York:20240108T080000
DTEND;TZID=America/New_York:20240108T080000
DTSTAMP:20260421T164451
CREATED:20231211T203652Z
LAST-MODIFIED:20231213T170023Z
UID:6138-1704700800-1704700800@www.livelytech.com
SUMMARY:Spring Enrollment Deadline
DESCRIPTION:Register Today \nSeize this opportunity to hone your skills\, gain hands-on experience\, and prepare for the industry with our comprehensive programs. Enroll today to begin a successful career!\n(The Health Science and Aviation Programs have different application deadlines.) \nOver 30 Career Programs: \n\nPlumbing\nAutomotive Service Technology\nHVAC\nBarbering\nTransit Technician 1\nBuilding Trades & Construction Design Technology\nWelding Technology\nCosmetology\nand so many more!\n\nLively Tech’s enrollment window is closing fast on January 8th\, the same day classes kick off. Join any of our 30+ dynamic programs and jumpstart your journey to success. From Welding to Cosmetology\, PLumbing to HVAC\, we’ve got the programs that set you on the path to a fulfilling career. \n⏰ Time’s ticking! Register Here.
URL:https://www.livelytech.com/event/spring-enrollment-deadline/
LOCATION:FL
ATTACH;FMTTYPE=image/jpeg:https://www.livelytech.com/wp-content/uploads/2023/12/Spring-Registration-Event-1.jpg
END:VEVENT
BEGIN:VEVENT
DTSTART;VALUE=DATE:20231220
DTEND;VALUE=DATE:20240104
DTSTAMP:20260421T164451
CREATED:20231213T174117Z
LAST-MODIFIED:20231213T174117Z
UID:6190-1703030400-1704326399@www.livelytech.com
SUMMARY:Holiday Break
DESCRIPTION:Campus will be closed beginning December 20th\, 2023 and reopen on January 4th\, 2024. \nAviation classes begin January 4th\, 2024. \nAll classes begin January 8th\, 2024.
URL:https://www.livelytech.com/event/holiday-break/
LOCATION:FL
ATTACH;FMTTYPE=image/png:https://www.livelytech.com/wp-content/uploads/2023/12/LTC-Holiday-Break-Event-1.png
END:VEVENT
BEGIN:VEVENT
DTSTART;VALUE=DATE:20231219
DTEND;VALUE=DATE:20231220
DTSTAMP:20260421T164451
CREATED:20231213T165817Z
LAST-MODIFIED:20231213T170348Z
UID:6184-1702944000-1703030399@www.livelytech.com
SUMMARY:Aviation Application Deadline
DESCRIPTION:✈️ Ready to dive into the world of Aviation Mechanics? The deadline for our Aviation Airframe and Powerplant Mechanics programs is December 19\, 2023! \nDon’t miss this chance to gear up for a career in the skies. Embrace hands-on learning and kickstart your journey towards an exciting career in aviation maintenance. \nApply before the deadline December 19th\, 2023.\nClasses start January 4th\, 2024. \nMore Information \n\nAviation Powerplant Mechanics\nAviation Airframe Mechanics\n\nEnroll Here: Prospective Students
URL:https://www.livelytech.com/event/aviation-application-deadline-121923/
LOCATION:FL
ATTACH;FMTTYPE=image/jpeg:https://www.livelytech.com/wp-content/uploads/2023/12/aviation-deadline-121923-event.jpg
END:VEVENT
BEGIN:VEVENT
DTSTART;VALUE=DATE:20231214
DTEND;VALUE=DATE:20231215
DTSTAMP:20260421T164451
CREATED:20231213T150405Z
LAST-MODIFIED:20231213T154736Z
UID:6180-1702512000-1702598399@www.livelytech.com
SUMMARY:Application Deadline
DESCRIPTION:The deadline for applying for the following programs is December 14th\, 2023. \nApply Today! \n\nCentral Sterile Processing Technician\nPhlebotomy\nNursing Assistant (Articulate)
URL:https://www.livelytech.com/event/application-deadline-121423/
LOCATION:FL
ATTACH;FMTTYPE=image/jpeg:https://www.livelytech.com/wp-content/uploads/2023/12/phel-CSPT-NA.jpg
END:VEVENT
BEGIN:VEVENT
DTSTART;VALUE=DATE:20231128
DTEND;VALUE=DATE:20231129
DTSTAMP:20260421T164451
CREATED:20231121T123326Z
LAST-MODIFIED:20231129T074536Z
UID:6116-1701129600-1701215999@www.livelytech.com
SUMMARY:Giving Tuesday 11/28
DESCRIPTION:This #GivingTuesday Lively Tech offers our community of friends and alumni an opportunity to support our foundation for providing life-changing careers and furthering workforce development throughout North Florida. We invite you to make a positive impact during this time of charitable giving. Donate Here
URL:https://www.livelytech.com/event/giving-tuesday-11-28/
LOCATION:FL
ATTACH;FMTTYPE=image/jpeg:https://www.livelytech.com/wp-content/uploads/2023/11/LTC_GT_EVENT-100.jpg
END:VEVENT
BEGIN:VEVENT
DTSTART;TZID=America/New_York:20231120T080000
DTEND;TZID=America/New_York:20231124T170000
DTSTAMP:20260421T164451
CREATED:20231116T183355Z
LAST-MODIFIED:20231116T184424Z
UID:6105-1700467200-1700845200@www.livelytech.com
SUMMARY:Fall Break: Campus Closed 11/20-11/24
DESCRIPTION:🍁 Wishing everyone a joyful and gratitude-filled Thanksgiving! At Lively Technical College\, we’re immensely grateful for our incredible community of faculty\, staff\, and students who contribute to making LTC an exceptional place to pursue your career dreams. In the spirit of the holiday\, our campus and offices will be closed next week\, 11/20 – 11/24 to allow everyone to enjoy this special time with loved ones. Have a wonderful Thanksgiving! #HappyThanksgiving #Gratitude #LivelyTech
URL:https://www.livelytech.com/event/fall-break-campus-closed-11-20-11-24/
LOCATION:FL
ATTACH;FMTTYPE=image/jpeg:https://www.livelytech.com/wp-content/uploads/2023/11/LTC-ThanksgivingClosed-event.jpg
END:VEVENT
BEGIN:VEVENT
DTSTART;VALUE=DATE:20231110
DTEND;VALUE=DATE:20231111
DTSTAMP:20260421T164451
CREATED:20231108T150016Z
LAST-MODIFIED:20231108T151933Z
UID:5916-1699574400-1699660799@www.livelytech.com
SUMMARY:Campus Closed on Veterans Day
DESCRIPTION:In honor of Veterans Day\, Lively Technical College will be closed this Friday\, November 10th. We hope the campus community enjoys the holiday and takes time to thank the veterans who have served our country. Classes will resume as scheduled on Monday. #VeteransDay #LivelyTech
URL:https://www.livelytech.com/event/veterans-day-2023/
LOCATION:FL
ATTACH;FMTTYPE=image/jpeg:https://www.livelytech.com/wp-content/uploads/2023/11/LTC-VeteransDay-event2.jpg
END:VEVENT
BEGIN:VEVENT
DTSTART;TZID=America/New_York:20231102T180000
DTEND;TZID=America/New_York:20231102T200000
DTSTAMP:20260421T164451
CREATED:20231101T200429Z
LAST-MODIFIED:20231101T200429Z
UID:5897-1698948000-1698955200@www.livelytech.com
SUMMARY:Cosmetology Beauty & Fashion Show
DESCRIPTION:
URL:https://www.livelytech.com/event/cosmetology-beauty-fashion-show-2023/
LOCATION:Student Union
ATTACH;FMTTYPE=image/jpeg:https://www.livelytech.com/wp-content/uploads/2023/11/Artboard-3-100.jpg
END:VEVENT
BEGIN:VEVENT
DTSTART;TZID=America/New_York:20231027T090000
DTEND;TZID=America/New_York:20231027T100000
DTSTAMP:20260421T164451
CREATED:20231012T185421Z
LAST-MODIFIED:20231012T193411Z
UID:5837-1698397200-1698400800@www.livelytech.com
SUMMARY:Pre-K Trunk or Treat!
DESCRIPTION:Step into Nostalgia at Our Pre-K Student Trunk or Treat!🎃 Join us for a delightful trip down memory lane as we embrace the magic of childhood toys at our Pre-K Student Trunk or Treat event! This beloved tradition is exclusive to our Pre-K students\, offering them a safe and enchanting space to celebrate the spooky season. \n  🍬 Public Food Drive: Your Generosity Matters! 🍬 While the Trunk or Treat is a private event\, our community spirit shines bright! Contribute to our food drive by dropping off your donations at the collection bin placed at the front entrance. Your kindness will make a difference to families in need.\n  🎩 Dress Up\, Decorate\, and Delight! Bring your favorite childhood toys to life with creative costumes. Classic board games\, action figures\, or iconic dolls – let your imagination take you a playground of nostalgia.\n  🗓️ Mark Your Calendars: October 27th\, 9:00 – 10:00 am Get ready for a morning filled with laughter\, treats\, and memories. We can’t wait to see you there!
URL:https://www.livelytech.com/event/pre-k-trunk-or-treat/
LOCATION:Parking Lot 4\, Behind Building 7
ATTACH;FMTTYPE=image/jpeg:https://www.livelytech.com/wp-content/uploads/2023/10/LTC-Trunk-or-Treat-Event.jpg
END:VEVENT
BEGIN:VEVENT
DTSTART;TZID=America/New_York:20231026T150000
DTEND;TZID=America/New_York:20231026T150000
DTSTAMP:20260421T164451
CREATED:20231020T160638Z
LAST-MODIFIED:20231025T143615Z
UID:5859-1698332400-1698332400@www.livelytech.com
SUMMARY:Fall Open House
DESCRIPTION:Discover Your Path to Success at Lively Tech’s Fall Open House! \n🗓️ Date: Thursday\, October 26th\n⏰ Time: 3:00 pm – 6:00 pm \nEmbark on a journey toward your dream career at our annual Fall Open House! Join us on campus and explore over 30 career training programs designed to shape your future. This is your chance to meet our dedicated instructors and staff\, tour our campus\, and gain invaluable insights into our diverse career paths. \n🚀 Discover Promising Career Paths\, Including: \nAviation Mechanics ✈️\nMedical Assisting 💉\nNursing 🏥\nBuilding Trades & Construction 🔨\nHVAC ❄️\nPhlebotomy 🔬\nCareer Dual Enrollment 🎓\nAnd More…\nWhy Choose Lively Tech? \nCareer technical education isn’t just about passing tests – it’s about preparing you for high-paying jobs and long-lasting careers. Meet our passionate instructors\, learn about our hands-on programs\, and find out how Lively Tech can ignite your passion and help you achieve your dreams. \n🔍 Representatives from student services and financial aid will be available to answer your questions. Don’t miss this opportunity to start your future! See you at Lively’s Open House!
URL:https://www.livelytech.com/event/fall-open-house/
LOCATION:Lively Techinical College Campus\, 500 Appleyard Dr\, Tallahassee\, FL\, 32304\, United States
ATTACH;FMTTYPE=image/jpeg:https://www.livelytech.com/wp-content/uploads/2023/10/LTCEVENT-100.jpg
END:VEVENT
BEGIN:VEVENT
DTSTART;TZID=America/New_York:20231025T160000
DTEND;TZID=America/New_York:20231025T180000
DTSTAMP:20260421T164451
CREATED:20231017T194629Z
LAST-MODIFIED:20231018T203048Z
UID:5850-1698249600-1698256800@www.livelytech.com
SUMMARY:Aviation Open House
DESCRIPTION:Attention Future Aviation Experts! 🛩️ \nEmbark on an exciting journey into the world of aviation maintenance at Lively Technical College! 🚀 Our aviation program is certified by the Federal Aviation Administration (FAA) and designed to develop aspiring individuals into skilled Aviation Powerplant and Airframe Mechanics. \nWhy Choose Lively?\n✈️ FAA-Certified Training: Our program is recognized and approved by the FAA\, ensuring high-quality education and industry relevance.\n✈️ Thriving Career Opportunities: Unlock doors to the airline industry\, aviation maintenance facilities\, and the world of commercial and General Aviation (GA).\n✈️ Expert Instruction: Learn from experienced professionals dedicated to shaping the next generation of aircraft mechanics. \nReady to take the first step toward an exciting career in aviation maintenance? Join us for our Open House at the Lively Tech Airfield!\n3290 Capital Circle SW\, Tallahassee\, FL 32310  \n🔹 Discover the endless possibilities in the aviation industry.\n🔹 Meet our expert instructors and explore our cutting-edge facilities.\n🔹 Learn about the comprehensive curriculum tailored for aspiring Aviation Powerplant Mechanics. \nDon’t miss this chance to kick-start your aviation journey! Your dream career awaits.
URL:https://www.livelytech.com/event/aviation-open-house-2023/
LOCATION:Lively Tech Airfield\, 3290 Capital Circle SW\, Tallahassee\, FL\, 32310\, United States
ATTACH;FMTTYPE=image/jpeg:https://www.livelytech.com/wp-content/uploads/2023/10/Aviation-Open-House-eventthumbnail.jpg
END:VEVENT
BEGIN:VEVENT
DTSTART;TZID=America/New_York:20231019T140000
DTEND;TZID=America/New_York:20231019T180000
DTSTAMP:20260421T164451
CREATED:20230925T211940Z
LAST-MODIFIED:20230925T212012Z
UID:5800-1697724000-1697738400@www.livelytech.com
SUMMARY:WOW Varsity
DESCRIPTION:WOW VARSITY is an opportunity for students in grades 10-12th to experience Worlds of Work and meet with employers at their own pace. Students must be accompanied by a parent\, guardian\, or adult mentor. During WOW Varsity\, these students and parents will be able to participate in all the world experiences and explore options for after graduation. Students (and parents) who visit all of the worlds will be entered to win door prizes! \nPlease register in advance for this event. Please have the registration confirmation (printed or on your phone) and bring it to check-in at the WOW Varsity Event. \nRegister Here.
URL:https://www.livelytech.com/event/wow-varsity/
LOCATION:Lively Techinical College Campus\, 500 Appleyard Dr\, Tallahassee\, FL\, 32304\, United States
ATTACH;FMTTYPE=image/jpeg:https://www.livelytech.com/wp-content/uploads/2023/09/LTC-WOWVarsity-EVENT.jpg
END:VEVENT
BEGIN:VEVENT
DTSTART;VALUE=DATE:20231019
DTEND;VALUE=DATE:20231021
DTSTAMP:20260421T164451
CREATED:20230821T193750Z
LAST-MODIFIED:20231012T150725Z
UID:5733-1697673600-1697846399@www.livelytech.com
SUMMARY:2023 Worlds of Work Career Expo
DESCRIPTION:On October 19-20\, 2023\, from 9:00 a.m. – 5:00 p.m. local economic and workforce development partners will bring ten industry-specific worlds of opportunities to life for over 3\,000 ninth grade students\, teachers\, and parents in our area. The purpose of WOW is to create awareness of the many high demand\, high wage job opportunities that exist in North Florida early enough in high school that students may plan their pathway and graduate with a plan in place and well on their way to college or career. For more information click here.
URL:https://www.livelytech.com/event/2023-worlds-of-work-career-expo/
LOCATION:Lively Techinical College Campus\, 500 Appleyard Dr\, Tallahassee\, FL\, 32304\, United States
ATTACH;FMTTYPE=image/jpeg:https://www.livelytech.com/wp-content/uploads/2023/08/LTC-WOW-Event-Sponsors.jpg
END:VEVENT
BEGIN:VEVENT
DTSTART;TZID=America/New_York:20231017T133000
DTEND;TZID=America/New_York:20231017T150000
DTSTAMP:20260421T164451
CREATED:20231012T164050Z
LAST-MODIFIED:20231012T164050Z
UID:5835-1697549400-1697554800@www.livelytech.com
SUMMARY:Career Fair
DESCRIPTION:Attention\, students! Come to our exclusive Career Fair on Tuesday\, October 17th\, from 1:30-3:00 pm in the Student Union. With over 40 esteemed businesses in attendance\, this event is your gateway to exploring the future of work. Dive into meaningful conversations with industry leaders\, uncover diverse opportunities\, and gain insights into the evolving landscape waiting for your unique talents.
URL:https://www.livelytech.com/event/career-fair/
LOCATION:Student Union
ATTACH;FMTTYPE=image/jpeg:https://www.livelytech.com/wp-content/uploads/2023/10/Career-Fair-Fall-2023-EVENT-100.jpg
END:VEVENT
BEGIN:VEVENT
DTSTART;VALUE=DATE:20230925
DTEND;VALUE=DATE:20230926
DTSTAMP:20260421T164451
CREATED:20230925T145009Z
LAST-MODIFIED:20230925T145141Z
UID:5795-1695600000-1695686399@www.livelytech.com
SUMMARY:Fall Holiday (Campus Closed)
DESCRIPTION:
URL:https://www.livelytech.com/event/fall-holiday-campus-closed-2/
LOCATION:FL
ATTACH;FMTTYPE=image/jpeg:https://www.livelytech.com/wp-content/uploads/2023/09/FallHoliday2023.jpg
END:VEVENT
BEGIN:VEVENT
DTSTART;VALUE=DATE:20231116
DTEND;VALUE=DATE:20231208
DTSTAMP:20260421T164451
CREATED:20231113T171934Z
LAST-MODIFIED:20231116T183836Z
UID:6016-1700092800-1701993599@www.livelytech.com
SUMMARY:Food Drive
DESCRIPTION:SOAR’s Specialized Career Instruction class is organizing a food drive! \nWho:  \n\nDonations will go FIRST to Lively’s food pantry right here on campus!\nAny extra donations will go to Second Harvest (a volunteer job site for our class).\n\nWhat: \n\nBring your non-perishable items and donations to campus!\nMost Needed Items (all donations welcome!):\n\nCanned Fruits\, Veggies\, & Meats\nCereal\nHearty Soup/Stew\nPeanut Butter\n\n\n\nWhere: \n\nDrop off your items in the SOAR area (Building 9\, behind Student Services)\n\nWhen: \n\nWe will be collecting donations on an ongoing basis until December 7!\n\nLet’s unite together to help meet this basic need of some valuable members of our Tallahassee community!
URL:https://www.livelytech.com/event/food-drive/
LOCATION:SOAR Classroom\, Bldg 9\, Rm 113\, 500 N Appleyard Drive\, Tallahassee\, FL\, 32304\, United States
ATTACH;FMTTYPE=image/jpeg:https://www.livelytech.com/wp-content/uploads/2023/03/Food-Drive-Event1.jpg
ORGANIZER;CN="Grace Holley":MAILTO:holleyg1@leonschools.net
END:VEVENT
BEGIN:VEVENT
DTSTART;VALUE=DATE:20230814
DTEND;VALUE=DATE:20230815
DTSTAMP:20260421T164451
CREATED:20230417T142757Z
LAST-MODIFIED:20230726T200646Z
UID:5290-1691971200-1692057599@www.livelytech.com
SUMMARY:First Day of Fall Programs
DESCRIPTION:
URL:https://www.livelytech.com/event/first-day-for-fall-programs/
LOCATION:Lively Techinical College Campus\, 500 Appleyard Dr\, Tallahassee\, FL\, 32304\, United States
ATTACH;FMTTYPE=image/jpeg:https://www.livelytech.com/wp-content/uploads/2023/07/LTC-FallProgramsBegin.jpg
END:VEVENT
BEGIN:VEVENT
DTSTART;VALUE=DATE:20230811
DTEND;VALUE=DATE:20230812
DTSTAMP:20260421T164451
CREATED:20230719T180933Z
LAST-MODIFIED:20230719T181616Z
UID:5575-1691712000-1691798399@www.livelytech.com
SUMMARY:Enrollment Deadline (for most programs)
DESCRIPTION:Enrollment for most fall programs ends on August 11th\, 2023. Visit Enroll Now to begin enrollment.
URL:https://www.livelytech.com/event/enrollment-deadline-for-most-programs/
LOCATION:FL
ATTACH;FMTTYPE=image/jpeg:https://www.livelytech.com/wp-content/uploads/2023/07/LTC-Enroll-Event.jpg
END:VEVENT
BEGIN:VEVENT
DTSTART;VALUE=DATE:20230804
DTEND;VALUE=DATE:20230805
DTSTAMP:20260421T164451
CREATED:20230726T200213Z
LAST-MODIFIED:20230726T200624Z
UID:5614-1691107200-1691193599@www.livelytech.com
SUMMARY:Aviation Program Begins
DESCRIPTION:
URL:https://www.livelytech.com/event/aviation-program-begins/
LOCATION:Lively Tech Airfield\, 3290 Capital Circle SW\, Tallahassee\, FL\, 32310\, United States
ATTACH;FMTTYPE=image/jpeg:https://www.livelytech.com/wp-content/uploads/2023/07/LTC-AviationBegins-Event1.jpg
END:VEVENT
BEGIN:VEVENT
DTSTART;TZID=America/New_York:20230803T150000
DTEND;TZID=America/New_York:20230803T180000
DTSTAMP:20260421T164451
CREATED:20230725T191353Z
LAST-MODIFIED:20230725T191605Z
UID:5608-1691074800-1691085600@www.livelytech.com
SUMMARY:Fall Open House
DESCRIPTION:Join us for our annual Fall Open House\, August 3rd\, 3:00-6:00 p.m. at the Lively Technical College campus. This is a great time to learn about our 30+ career training programs. You’ll also get to tour the campus and meet our instructors and staff. See you soon.
URL:https://www.livelytech.com/event/5608/
LOCATION:FL
ATTACH;FMTTYPE=image/jpeg:https://www.livelytech.com/wp-content/uploads/2023/07/LTC-Fall23-OpenHouse-Event.jpg
END:VEVENT
BEGIN:VEVENT
DTSTART;VALUE=DATE:20230704
DTEND;VALUE=DATE:20230705
DTSTAMP:20260421T164451
CREATED:20230417T142722Z
LAST-MODIFIED:20230627T164445Z
UID:5288-1688428800-1688515199@www.livelytech.com
SUMMARY:Fourth of July Holiday (Campus Closed 7/4)
DESCRIPTION:
URL:https://www.livelytech.com/event/fourth-of-july-holiday-campus-closed/
LOCATION:FL
ATTACH;FMTTYPE=image/jpeg:https://www.livelytech.com/wp-content/uploads/2023/06/LTC-4thofJuly-Tues-Closed-Event.jpg
END:VEVENT
BEGIN:VEVENT
DTSTART;VALUE=DATE:20230619
DTEND;VALUE=DATE:20230620
DTSTAMP:20260421T164451
CREATED:20230417T142641Z
LAST-MODIFIED:20230517T154628Z
UID:5286-1687132800-1687219199@www.livelytech.com
SUMMARY:Juneteenth Holiday (Campus Closed)
DESCRIPTION:
URL:https://www.livelytech.com/event/juneteenth-holiday-campus-closed/
LOCATION:FL
ATTACH;FMTTYPE=image/png:https://www.livelytech.com/wp-content/uploads/2023/04/LTC-Juneteenth-Closed-Event.png
END:VEVENT
BEGIN:VEVENT
DTSTART;VALUE=DATE:20230529
DTEND;VALUE=DATE:20230530
DTSTAMP:20260421T164451
CREATED:20230417T144803Z
LAST-MODIFIED:20230517T151832Z
UID:5301-1685318400-1685404799@www.livelytech.com
SUMMARY:Memorial Day Holiday (Campus Closed)
DESCRIPTION:
URL:https://www.livelytech.com/event/memorial-day-holiday-campus-closed/
LOCATION:Lively Techinical College Campus\, 500 Appleyard Dr\, Tallahassee\, FL\, 32304\, United States
ATTACH;FMTTYPE=image/png:https://www.livelytech.com/wp-content/uploads/2023/04/LTC-MemorialDay2023-Event.png
END:VEVENT
BEGIN:VEVENT
DTSTART;TZID=America/New_York:20230518T183000
DTEND;TZID=America/New_York:20230518T200000
DTSTAMP:20260421T164451
CREATED:20230417T142603Z
LAST-MODIFIED:20230503T184406Z
UID:5284-1684434600-1684440000@www.livelytech.com
SUMMARY:Spring Graduation
DESCRIPTION:
URL:https://www.livelytech.com/event/spring-graduation/
LOCATION:Chiles High School Auditorium\, 7200 Lawton Chiles Ln\, Tallahassee\, FL\, 32312\, United States
ATTACH;FMTTYPE=image/jpeg:https://www.livelytech.com/wp-content/uploads/2023/04/LTCGraduation-JoinUs-Event-Border.jpg
END:VEVENT
BEGIN:VEVENT
DTSTART;VALUE=DATE:20230511
DTEND;VALUE=DATE:20230512
DTSTAMP:20260421T164451
CREATED:20230417T143332Z
LAST-MODIFIED:20230417T143332Z
UID:5297-1683763200-1683849599@www.livelytech.com
SUMMARY:School Advisory Council Meeting
DESCRIPTION:
URL:https://www.livelytech.com/event/school-advisory-council-meeting-5/
LOCATION:FL
END:VEVENT
END:VCALENDAR